BEGIN:VCALENDAR
VERSION:2.0
PRODID:icalendar-ruby
CALSCALE:GREGORIAN
METHOD:PUBLISH
BEGIN:VEVENT
DTSTAMP:20260424T042138Z
UID:112-1268417@transformationchurch.life
DTSTART:20261104T230000Z
DTEND:20261105T010000Z
CLASS:PUBLIC
CREATED:20260423T230352
DESCRIPTION:
LAST-MODIFIED:20260423T230352
LOCATION:455 Freewill Circle Lexington\, NC 27295
SUMMARY:Faith\, Family\, and Friends
URL;VALUE=URI:https://transformationchurch.life/events/faith-family-and-fri
 ends/2026-11-04
ATTACH;FILENAME=Faith.png;FMTTYPE=image/png:https://dq5pwpg1q8ru0.cloudfron
 t.net/2026/04/03/04/47/55/d2f84c42-0c57-40c7-ac37-58359ec04a95/Faith.png
END:VEVENT
END:VCALENDAR
