BEGIN:VCALENDAR
VERSION:2.0
PRODID:icalendar-ruby
CALSCALE:GREGORIAN
METHOD:PUBLISH
BEGIN:VEVENT
DTSTAMP:20260426T024740Z
UID:90-1233723@transformationchurch.life
DTSTART:20260517T163000Z
DTEND:20260517T173000Z
CLASS:PUBLIC
CREATED:20260403T012112
DESCRIPTION:
LAST-MODIFIED:20260403T012112
LOCATION:455 Freewill Circle Lexington\, NC 27295
SUMMARY:Membership Class
URL;VALUE=URI:https://transformationchurch.life/events/membership-class--90
 /2026-05-17
ATTACH;FILENAME=Membership-no-date.png;FMTTYPE=image/png:https://dq5pwpg1q8
 ru0.cloudfront.net/2026/02/09/01/34/08/b24b222e-60a8-4fdd-8d68-5ccf700f33c
 2/Membership-no-date.png
END:VEVENT
END:VCALENDAR
