BEGIN:VCALENDAR
VERSION:2.0
PRODID:icalendar-ruby
CALSCALE:GREGORIAN
METHOD:PUBLISH
BEGIN:VEVENT
DTSTAMP:20260423T073045Z
UID:13-1266518@transformationchurch.life
DTSTART:20261101T160000Z
DTEND:20261101T170000Z
CLASS:PUBLIC
CREATED:20260422T230152
DESCRIPTION:
LAST-MODIFIED:20260422T230152
LOCATION:455 Freewill Circle Lexington\, N.C. 27295
SUMMARY:Sunday Worship
URL;VALUE=URI:https://transformationchurch.life/events/sunday-worship/2026-
 11-01
ATTACH;FILENAME=Image-2.jpeg;FMTTYPE=image/jpeg:https://dq5pwpg1q8ru0.cloud
 front.net/2025/06/11/02/20/00/5b030db7-6769-4207-879f-ae72a6406bc0/Image-2
 .jpeg
END:VEVENT
END:VCALENDAR
